Workbook

Sheet الواجهة
C3: الجمهورية الجزائرية الديمقراطية الشعبية وزارة التربية الوطنية
D7: المؤسسة: | I7: متوسطة:
Y8: كشف نقاط: م.ت.أ التربوي / م.ت.أ التسييري /منحة المردودية للثلاثي الأول السنة المالية 2024
D9: رمز المؤسسة: | Y9: كشف نقاط: م.ت.أ التربوي / م.ت.أ التسييري /منحة المردودية للثلاثي الثاني السنة المالية 2024
Y10: كشف نقاط: م.ت.أ التربوي / م.ت.أ التسييري /منحة المردودية للثلاثي الثالث السنة المالية 2024
B11: حساب الساعـــــات الإضافية | Y11: كشف نقاط: م.ت.أ التربوي / م.ت.أ التسييري /منحة المردودية للثلاثي الرابع السنة المالية 2024
D17: المعلومات | I17: الحساب | N17: الطباعة

Sheet المعلومات
A2: N: | B2: اللقب | C2: الاسم | D2: الرتبة | E2: المادة | F2: الحساب البريدي
A3: 1 | D3: أستاذ التعليم المتوسط | E3: عربية
A4: 2 | D4: أستاذ رئيسي للتعليم المتوسط | E4: عربية
A5: 3 | D5: أستاذ مكون في التعليم المتوسط | E5: عربية
A6: 4 | D6: أستاذ التعليم المتوسط | E6: عربية
A7: 5 | D7: أستاذ رئيسي للتعليم المتوسط | E7: عربية
A8: 6 | D8: أستاذ مكون في التعليم المتوسط | E8: عربية
A9: 7 | D9: أستاذ التعليم المتوسط | E9: تربية بدنية
A10: 8 | D10: أستاذ رئيسي للتعليم المتوسط | E10: تربية بدنية
A11: 9 | D11: أستاذ مكون في التعليم المتوسط | E11: اعلام الي
A19: 17
A20: 18
A21: 19
A22: 20
A23: 21
A24: 22
A25: 23
A26: 24
A27: 25
A28: 26
A29: 27
A30: 28
... A79: 77

Sheet حساب
A1: لجـمهوريـة الجـزائريـة الديمـقراطيـة الـشعـبيـة | AO1: 43
A2: وزارة التـربيـة الوطنـيـة
A3: مـديريـة التـربيـة لولاية | AB3: السنة الدراسية: | AH3: 2026/2025
A4: المؤسسة: | J4: =الواجهة!$I$7 -> متوسطة:
A5: الرمـز: | J5: =الواجهة!$I$9 -> 0
A6: جدول حساب الساعـــــات الإضافية
A8: طبقا لقرار مـديريـة التـربيـة لولاية غليزان رقم: .... المؤرخ في: .../.../2024 المتعلق بصرف: ... ساعة أسبوعيا
F9: للسيد: | J9: =VLOOKUP($AO$1,المعلومات!$A$3:$E$79,2)&" "&VLOOKUP($AO$1,المعلومات!$A$3:$E$79,3) | T9: الرتبة: | W9: =VLOOKUP($AO$1,المعلومات!$A$3:$E$79,4) -> 0 | AF9: المادة: | AH9: =VLOOKUP($AO$1,المعلومات!$A$3:$E$79,5) -> 0
A10: خلال الفترة الممتدة من: 01 اكتوبر الى: 31 ماي 2026
A11: الشهر | G11: الأسبوع 01 | N11: الأسبوع 02 | U11: الأسبوع 03 | AB11: الأسبوع 04 | AL11: المجموع
A12: أكتوبر | D12: التاريخ | G12: 1 | H12: 2 | I12: 3 | J12: 4 | K12: 5 | L12: 6 | M12: 7 | N12: 8 | O12: 9 | P12: 10 | Q12: 11 | R12: 12 | S12: 13 | T12: 14 | U12: 15 | V12: 16 | W12: 17 | X12: 18 | Y12: 19 | Z12: 20 | AA12: 21 | AB12: 22 | AC12: 23 | AD12: 24 | AE12: 25 | AF12: 26 | AG12: 27 | AH12: 28 | AI12: 29 | AJ12: 30 | AK12: 31 | AL12: =AI15+AB15+U15+N15+G15 -> 4
D13: المناسبات والعطل | AK13: ع
D14: الغيابات
D15: الساعات | G15: 1 | N15: 1 | U15: 1 | AB15: 1 | AI15: 0
A16: نوفمبر | D16: التاريخ | G16: 1 | H16: 2 | I16: 3 | J16: 4 | K16: 5 | L16: 6 | M16: 7 | N16: 8 | O16: 9 | P16: 10 | Q16: 11 | R16: 12 | S16: 13 | T16: 14 | U16: 15 | V16: 16 | W16: 17 | X16: 18 | Y16: 19 | Z16: 20 | AA16: 21 | AB16: 22 | AC16: 23 | AD16: 24 | AE16: 25 | AF16: 26 | AG16: 27 | AH16: 28 | AI16: 29 | AJ16: 30 | AK16: 31 | AL16: =AI19+AB19+U19+N19+G19 -> 3
D17: المناسبات والعطل | G17: الخريف
D18: الغيابات
D19: الساعات | G19: 0 | N19: 1 | U19: 1 | AB19: 1
A20: ديسمبر | D20: التاريخ | G20: 1 | H20: 2 | I20: 3 | J20: 4 | K20: 5 | L20: 6 | M20: 7 | N20: 8 | O20: 9 | P20: 10 | Q20: 11 | R20: 12 | S20: 13 | T20: 14 | U20: 15 | V20: 16 | W20: 17 | X20: 18 | Y20: 19 | Z20: 20 | AA20: 21 | AB20: 22 | AC20: 23 | AD20: 24 | AE20: 25 | AF20: 26 | AG20: 27 | AH20: 28 | AI20: 29 | AJ20: 30 | AK20: 31 | AL20: =AI23+AB23+U23+N23+G23 -> 3
D21: المناسبات والعطل | AB21: عطـــــــــــــــــــــــــــــــــلة
D22: الغيابات
D23: الساعات | G23: 1 | N23: 1 | U23: 1 | AB23: 0
A24: يناير | D24: التاريخ | G24: 1 | H24: 2 | I24: 3 | J24: 4 | K24: 5 | L24: 6 | M24: 7 | N24: 8 | O24: 9 | P24: 10 | Q24: 11 | R24: 12 | S24: 13 | T24: 14 | U24: 15 | V24: 16 | W24: 17 | X24: 18 | Y24: 19 | Z24: 20 | AA24: 21 | AB24: 22 | AC24: 23 | AD24: 24 | AE24: 25 | AF24: 26 | AG24: 27 | AH24: 28 | AI24: 29 | AJ24: 30 | AK24: 31 | AL24: =AI27+AB27+U27+N27+G27 -> 3
D25: المناسبات والعطل | G25: الشتاء
D26: الغيابات
D27: الساعات | G27: 0 | N27: 1 | U27: 1 | AB27: 1
A28: فبراير | D28: التاريخ | G28: 1 | H28: 2 | I28: 3 | J28: 4 | K28: 5 | L28: 6 | M28: 7 | N28: 8 | O28: 9 | P28: 10 | Q28: 11 | R28: 12 | S28: 13 | T28: 14 | U28: 15 | V28: 16 | W28: 17 | X28: 18 | Y28: 19 | Z28: 20 | AA28: 21 | AB28: 22 | AC28: 23 | AD28: 24 | AE28: 25 | AF28: 26 | AG28: 27 | AH28: 28 | AI28: 29 | AJ28: 30 | AK28: 31 | AL28: =AI31+AB31+U31+N31+G31 -> 4
D29: المناسبات والعطل
D30: الغيابات
D31: الساعات | G31: 1 | N31: 1 | U31: 1 | AB31: 1
A32: مارس | D32: التاريخ | G32: 1 | H32: 2 | I32: 3 | J32: 4 | K32: 5 | L32: 6 | M32: 7 | N32: 8 | O32: 9 | P32: 10 | Q32: 11 | R32: 12 | S32: 13 | T32: 14 | U32: 15 | V32: 16 | W32: 17 | X32: 18 | Y32: 19 | Z32: 20 | AA32: 21 | AB32: 22 | AC32: 23 | AD32: 24 | AE32: 25 | AF32: 26 | AG32: 27 | AH32: 28 | AI32: 29 | AJ32: 30 | AK32: 31 | AL32: =AI35+AB35+U35+N35+G35 -> 3
D33: المناسبات والعطل | AB33: عطـــــــــــــــــــــــــــــــــلة
D34: الغيابات
D35: الساعات | G35: 1 | N35: 1 | U35: 1 | AB35: 0
A36: أبريل | D36: التاريخ | G36: 1 | H36: 2 | I36: 3 | J36: 4 | K36: 5 | L36: 6 | M36: 7 | N36: 8 | O36: 9 | P36: 10 | Q36: 11 | R36: 12 | S36: 13 | T36: 14 | U36: 15 | V36: 16 | W36: 17 | X36: 18 | Y36: 19 | Z36: 20 | AA36: 21 | AB36: 22 | AC36: 23 | AD36: 24 | AE36: 25 | AF36: 26 | AG36: 27 | AH36: 28 | AI36: 29 | AJ36: 30 | AK36: 31 | AL36: =AI39+AB39+U39+N39+G39 -> 3
D37: المناسبات والعطل | G37: الربيع
D38: الغيابات
D39: الساعات | G39: 0 | N39: 1 | U39: 1 | AB39: 1
A40: مايو | D40: التاريخ | G40: 1 | H40: 2 | I40: 3 | J40: 4 | K40: 5 | L40: 6 | M40: 7 | N40: 8 | O40: 9 | P40: 10 | Q40: 11 | R40: 12 | S40: 13 | T40: 14 | U40: 15 | V40: 16 | W40: 17 | X40: 18 | Y40: 19 | Z40: 20 | AA40: 21 | AB40: 22 | AC40: 23 | AD40: 24 | AE40: 25 | AF40: 26 | AG40: 27 | AH40: 28 | AI40: 29 | AJ40: 30 | AK40: 31 | AL40: =AI43+AB43+U43+N43+G43 -> 4
D41: المناسبات والعطل
D42: الغيابات
D43: الساعات | G43: 1 | N43: 1 | U43: 1 | AB43: 1
D44: مجموع الساعات الايضافية | AL44: =SUM(AL12:AN43) -> 27
A45: مـلاحظة: ضرورة إرفاق نسخة من قائمة الخدمات الإضافية ( R G F)
AA46: حرر بـــــ: غليزان | AG46: في | AH46: =TODAY() -> 45932
AK47: مدير المؤسسة

Sheet طباعة
A1: لجـمهوريـة الجـزائريـة الديمـقراطيـة الـشعـبيـة
A2: وزارة التـربيـة الوطنـيـة
A3: مـديريـة التـربيـة لولاية | E3: غليـزان
A4: المؤسسة: | C4: =الواجهة!$I$7 -> متوسطة:
A5: الرمـز: | C5: =الواجهة!$I$9 -> 0
A6: الكشف الإجمالي للساعـــــات الإضافية المنجزة في : | M6: الثلاثي الرابع
F7: السنة المالية 2025
A8: في إطار المرسوم التنفيذي رقم 03-219 المؤرخ في 22/05/2003 المعدل و المتمم للمرسوم التنفيذي 84-29.
A9: الرقم | B9: الرمــــــــز | E9: اللقــــــــب و الاسم | J9: مادة التدریس | M9: عدد الساعات المنجزة اثناء الفصل | O9: ملاحظـــــــات | S9: رقم الموظف
A10: =IF(S10>=0,1,"") -> 1 | B10: =IFERROR(VLOOKUP(S10,المعلومات!$A$3:$F$79,6),"") -> 0 | E10: =IFERROR(VLOOKUP(S10,المعلومات!$A$3:$E$79,2)&" "&VLOOKUP(S10,المعلومات!$A$3:$E$79,3),"") | J10: =IFERROR(VLOOKUP(S10,المعلومات!$A$3:$E$79,5),"") -> 0 | S10: 43
A11: =IF(S11>0,A10+1,"") -> 2 | B11: =IFERROR(VLOOKUP(S11,المعلومات!$A$3:$F$79,6),"") -> 0 | E11: =IFERROR(VLOOKUP(S11,المعلومات!$A$3:$E$79,2)&" "&VLOOKUP(S11,المعلومات!$A$3:$E$79,3),"") | J11: =IFERROR(VLOOKUP(S11,المعلومات!$A$3:$E$79,5),"") -> 0 | S11: 44
A12: =IF(S12>0,A11+1,"") -> 3 | B12: =IFERROR(VLOOKUP(S12,المعلومات!$A$3:$F$79,6),"") -> 0 | E12: =IFERROR(VLOOKUP(S12,المعلومات!$A$3:$E$79,2)&" "&VLOOKUP(S12,المعلومات!$A$3:$E$79,3),"") | J12: =IFERROR(VLOOKUP(S12,المعلومات!$A$3:$E$79,5),"") -> 0 | S12: 45
A13: =IF(S13>0,A12+1,"") | B13: =IFERROR(VLOOKUP(S13,المعلومات!$A$3:$F$79,6),"") | E13: =IFERROR(VLOOKUP(S13,المعلومات!$A$3:$E$79,2)&" "&VLOOKUP(S13,المعلومات!$A$3:$E$79,3),"") | J13: =IFERROR(VLOOKUP(S13,المعلومات!$A$3:$E$79,5),"")
A14: =IF(S14>0,A13+1,"") | B14: =IFERROR(VLOOKUP(S14,المعلومات!$A$3:$F$79,6),"") | E14: =IFERROR(VLOOKUP(S14,المعلومات!$A$3:$E$79,2)&" "&VLOOKUP(S14,المعلومات!$A$3:$E$79,3),"") | J14: =IFERROR(VLOOKUP(S14,المعلومات!$A$3:$E$79,5),"") | W14: ادخل رقم الموظف حسب الترتيب في قائمة المعلومات
A15: =IF(S15>0,A14+1,"") | B15: =IFERROR(VLOOKUP(S15,المعلومات!$A$3:$F$79,6),"") | E15: =IFERROR(VLOOKUP(S15,المعلومات!$A$3:$E$79,2)&" "&VLOOKUP(S15,المعلومات!$A$3:$E$79,3),"") | J15: =IFERROR(VLOOKUP(S15,المعلومات!$A$3:$E$79,5),"")
A16: =IF(S16>0,A15+1,"") | B16: =IFERROR(VLOOKUP(S16,المعلومات!$A$3:$F$79,6),"") | E16: =IFERROR(VLOOKUP(S16,المعلومات!$A$3:$E$79,2)&" "&VLOOKUP(S16,المعلومات!$A$3:$E$79,3),"") | J16: =IFERROR(VLOOKUP(S16,المعلومات!$A$3:$E$79,5),"")
A17: =IF(S17>0,A16+1,"") | B17: =IFERROR(VLOOKUP(S17,المعلومات!$A$3:$F$79,6),"") | E17: =IFERROR(VLOOKUP(S17,المعلومات!$A$3:$E$79,2)&" "&VLOOKUP(S17,المعلومات!$A$3:$E$79,3),"") | J17: =IFERROR(VLOOKUP(S17,المعلومات!$A$3:$E$79,5),"")
A18: =IF(S18>0,A17+1,"") | B18: =IFERROR(VLOOKUP(S18,المعلومات!$A$3:$F$79,6),"") | E18: =IFERROR(VLOOKUP(S18,المعلومات!$A$3:$E$79,2)&" "&VLOOKUP(S18,المعلومات!$A$3:$E$79,3),"") | J18: =IFERROR(VLOOKUP(S18,المعلومات!$A$3:$E$79,5),"")
A19: =IF(S19>0,A18+1,"") | B19: =IFERROR(VLOOKUP(S19,المعلومات!$A$3:$F$79,6),"") | E19: =IFERROR(VLOOKUP(S19,المعلومات!$A$3:$E$79,2)&" "&VLOOKUP(S19,المعلومات!$A$3:$E$79,3),"") | J19: =IFERROR(VLOOKUP(S19,المعلومات!$A$3:$E$79,5),"")
A20: =IF(S20>0,A19+1,"") | B20: =IFERROR(VLOOKUP(S20,المعلومات!$A$3:$F$79,6),"") | E20: =IFERROR(VLOOKUP(S20,المعلومات!$A$3:$E$79,2)&" "&VLOOKUP(S20,المعلومات!$A$3:$E$79,3),"") | J20: =IFERROR(VLOOKUP(S20,المعلومات!$A$3:$E$79,5),"")
A21: =IF(S21>0,A20+1,"") | B21: =IFERROR(VLOOKUP(S21,المعلومات!$A$3:$F$79,6),"") | E21: =IFERROR(VLOOKUP(S21,المعلومات!$A$3:$E$79,2)&" "&VLOOKUP(S21,المعلومات!$A$3:$E$79,3),"") | J21: =IFERROR(VLOOKUP(S21,المعلومات!$A$3:$E$79,5),"")
A22: =IF(S22>0,A21+1,"") | B22: =IFERROR(VLOOKUP(S22,المعلومات!$A$3:$F$79,6),"") | E22: =IFERROR(VLOOKUP(S22,المعلومات!$A$3:$E$79,2)&" "&VLOOKUP(S22,المعلومات!$A$3:$E$79,3),"") | J22: =IFERROR(VLOOKUP(S22,المعلومات!$A$3:$E$79,5),"")
A23: =IF(S23>0,A22+1,"") | B23: =IFERROR(VLOOKUP(S23,المعلومات!$A$3:$F$79,6),"") | E23: =IFERROR(VLOOKUP(S23,المعلومات!$A$3:$E$79,2)&" "&VLOOKUP(S23,المعلومات!$A$3:$E$79,3),"") | J23: =IFERROR(VLOOKUP(S23,المعلومات!$A$3:$E$79,5),"")
A24: =IF(S24>0,A23+1,"") | B24: =IFERROR(VLOOKUP(S24,المعلومات!$A$3:$F$79,6),"") | E24: =IFERROR(VLOOKUP(S24,المعلومات!$A$3:$E$79,2)&" "&VLOOKUP(S24,المعلومات!$A$3:$E$79,3),"") | J24: =IFERROR(VLOOKUP(S24,المعلومات!$A$3:$E$79,5),"")
A25: مـلاحظة: ضرورة إرفاق نسخة من قائمة الخدمات الإضافية ( R G F)
J27: حرر بـــــ: غليزان | M27: في | N27: =TODAY() -> 45932
N29: مدير المؤسسة
