Workbook

Sheet التقرير اليومي
A1: الجمهورية الجزائرية الديمقراطية الشعبية
A2: وزارة التربية الوطنية
A3: =[1]بيانات_المؤسسة!$J$11 -> مديرية التربية لولاية تيارت | P3: السنة الدراسية: 2025/2026
A4: =[1]بيانات_المؤسسة!$J$12 -> متوسطة بن عيشوش محمد-كارمان-
A5: رقم التقرير: | C5: 01*2025 | H5: التقرير اليومي للمشرف العام
A6: 1- الدراسة : | S6: =CHOOSE(WEEKDAY(S7),"الأحد","الإثنين","الثلاثاء","الأربعاء","الخميس","الجمعة","السبت") -> الأربعاء
A7: 1.1- دروس لم تقدم : | S7: =TODAY()+V6 -> 45924
A8: الرقم | B8: لقب واسم الاستاذ (ة) | E8: المادة | G8: ساعات الغياب | H8: صباحا | L8: مساء | P8: سبب الغياب | S8: ملاحظات
H9: 1 | I9: 2 | J9: 3 | K9: 4 | L9: 5 | M9: 6 | N9: 7 | O9: 8
A10: 1 | E10: =IFERROR(VLOOKUP(B10,[1]بيانات_المؤسسة!$C$2:$D$61,2,FALSE),"") | G10: =COUNTIF(H10:O10,"*") -> 0
A11: 2 | E11: =IFERROR(VLOOKUP(B11,[1]بيانات_المؤسسة!$C$2:$D$61,2,FALSE),"") | G11: =COUNTIF(H11:O11,"*") -> 0
A12: 3 | E12: =IFERROR(VLOOKUP(B12,[1]بيانات_المؤسسة!$C$2:$D$61,2,FALSE),"") | G12: =COUNTIF(H12:O12,"*") -> 0
A13: 4 | E13: =IFERROR(VLOOKUP(B13,[1]بيانات_المؤسسة!$C$2:$D$61,2,FALSE),"") | G13: =COUNTIF(H13:O13,"*") -> 0
A14: 5 | E14: =IFERROR(VLOOKUP(B14,[1]بيانات_المؤسسة!$C$2:$D$61,2,FALSE),"") | G14: =COUNTIF(H14:O14,"*") -> 0
A15: 6 | E15: =IFERROR(VLOOKUP(B15,[1]بيانات_المؤسسة!$C$2:$D$61,2,FALSE),"") | G15: =COUNTIF(H15:O15,"*") -> 0
A16: 7 | E16: =IFERROR(VLOOKUP(B16,[1]بيانات_المؤسسة!$C$2:$D$61,2,FALSE),"") | G16: =COUNTIF(H16:O16,"*") -> 0
A17: 8 | E17: =IFERROR(VLOOKUP(B17,[1]بيانات_المؤسسة!$C$2:$D$61,2,FALSE),"") | G17: =COUNTIF(H17:O17,"*") -> 0
A18: 9 | E18: =IFERROR(VLOOKUP(B18,[1]بيانات_المؤسسة!$C$2:$D$61,2,FALSE),"") | G18: =COUNTIF(H18:O18,"*") -> 0
A19: 10 | E19: =IFERROR(VLOOKUP(B19,[1]بيانات_المؤسسة!$C$2:$D$61,2,FALSE),"") | G19: =COUNTIF(H19:O19,"*") -> 0
A20: الحجم الساعي اليومي : | E20: =INDEX([1]بيانات_المؤسسة!I2:J8,WEEKDAY(S7),1) -> 126 | G20: مجموع ساعات الغياب | K20: =SUM(G10:G19) -> 0 | N20: النسبة المئوية لغيابات اليوم: | S20: =IFERROR(K20/E20,"") -> 0
A21: 2.1- الاجراءات المتخذة : (الاستعجالية و الميدانية)
A22: .................................................................................................................................................................................................................................................................................................................................................
A23: .............................................................................................................................................................................................................................................................................................................................................
A24: 2- المواظبة : | E24: مرض التلميذة بسايح فاطيمة 4م5 ونقلها الى المنزل | F24: 1111 | J24: ح
A25: 1.2 - مواظبة التلاميـــــــــذ :
A26: الأولى متوسط | C26: =IF([1]بيانات_المؤسسة!$P$2="","",[1]بيانات_المؤسسة!$P$2) -> 1م1 | D26: =IF([1]بيانات_المؤسسة!$P$3="","",[1]بيانات_المؤسسة!$P$3) -> 1م2 | E26: =IF([1]بيانات_المؤسسة!$P$4="","",[1]بيانات_المؤسسة!$P$4) -> 1م3 | F26: =IF([1]بيانات_المؤسسة!$P$5="","",[1]بيانات_المؤسسة!$P$5) -> 1م4 | G26: =IF([1]بيانات_المؤسسة!$P$6="","",[1]بيانات_المؤسسة!$P$6) -> 1م5 | H26: =IF([1]بيانات_المؤسسة!$P$7="","",[1]بيانات_المؤسسة!$P$7) -> 1م6 | I26: 1م7 | J26: =IF([1]بيانات_المؤسسة!$P$9="","",[1]بيانات_المؤسسة!$P$9) | K26: =IF([1]بيانات_المؤسسة!$P$10="","",[1]بيانات_المؤسسة!$P$10) | L26: =IF([1]بيانات_المؤسسة!$P$11="","",[1]بيانات_المؤسسة!$P$11) | M26: =IF([1]بيانات_المؤسسة!$P$12="","",[1]بيانات_المؤسسة!$P$12) | N26: =IF([1]بيانات_المؤسسة!$P$13="","",[1]بيانات_المؤسسة!$P$13) | P26: الحوصــــــــلــــــــــة
A27: تعداد الفوج | C27: 51 | D27: 51 | E27: 51 | F27: 51 | G27: 48 | H27: 46 | I27: 43 | J27: =IF(J26<>"",COUNTIFS([1]Data!$F:$F,[1]بيانات_المؤسسة!$P$1,[1]Data!$G:$G,MID(J26,3,2),[1]Data!$A:$A,"<="&$S$7)-COUNTIFS([1]Data!$F:$F,[1]بيانات_المؤسسة!$P$1,[1]Data!$G:$G,MID(J26,3,2),[1]Data!$AA:$AA,"<="&$S$7),"") | K27: =IF(K26<>"",COUNTIFS([1]Data!$F:$F,[1]بيانات_المؤسسة!$P$1,[1]Data!$G:$G,MID(K26,3,2),[1]Data!$A:$A,"<="&$S$7)-COUNTIFS([1]Data!$F:$F,[1]بيانات_المؤسسة!$P$1,[1]Data!$G:$G,MID(K26,3,2),[1]Data!$AA:$AA,"<="&$S$7),"") | L27: =IF(L26<>"",COUNTIFS([1]Data!$F:$F,[1]بيانات_المؤسسة!$P$1,[1]Data!$G:$G,MID(L26,3,2),[1]Data!$A:$A,"<="&$S$7)-COUNTIFS([1]Data!$F:$F,[1]بيانات_المؤسسة!$P$1,[1]Data!$G:$G,MID(L26,3,2),[1]Data!$AA:$AA,"<="&$S$7),"") | M27: =IF(M26<>"",COUNTIFS([1]Data!$F:$F,[1]بيانات_المؤسسة!$P$1,[1]Data!$G:$G,MID(M26,3,2),[1]Data!$A:$A,"<="&$S$7)-COUNTIFS([1]Data!$F:$F,[1]بيانات_المؤسسة!$P$1,[1]Data!$G:$G,MID(M26,3,2),[1]Data!$AA:$AA,"<="&$S$7),"") | N27: =IF(N26<>"",COUNTIFS([1]Data!$F:$F,[1]بيانات_المؤسسة!$P$1,[1]Data!$G:$G,MID(N26,3,2),[1]Data!$A:$A,"<="&$S$7)-COUNTIFS([1]Data!$F:$F,[1]بيانات_المؤسسة!$P$1,[1]Data!$G:$G,MID(N26,3,2),[1]Data!$AA:$AA,"<="&$S$7),"") | P27: تعداد المستوى | S27: =SUM(C27:N27) -> 341
A28: عدد غياب الفوج | C28: =IF(C27="","",COUNTIF($F$74:$G$113,"="&C26)) -> 0 | D28: =IF(D27="","",COUNTIF($F$74:$G$113,"="&D26)) -> 0 | E28: =IF(E27="","",COUNTIF($F$74:$G$113,"="&E26)) -> 0 | F28: =IF(F27="","",COUNTIF($F$74:$G$113,"="&F26)) -> 0 | G28: =IF(G27="","",COUNTIF($F$74:$G$113,"="&G26)) -> 0 | H28: =IF(H27="","",COUNTIF($F$74:$G$113,"="&H26)) -> 0 | I28: =IF(I27="","",COUNTIF($F$74:$G$113,"="&I26)) -> 0 | J28: =IF(J27="","",COUNTIF($F$74:$G$113,"="&J26)) | ... N28: =IF(N27="","",COUNTIF($F$74:$G$113,"="&N26)) | P28: عدد غياب المستوى | S28: =SUM(C28:N28) -> 0
A29: نسبة غياب الفوج | C29: =IF(C27="","",C28/C27) -> 0 | D29: =IF(D27="","",D28/D27) -> 0 | E29: =IF(E27="","",E28/E27) -> 0 | F29: =IF(F27="","",F28/F27) -> 0 | G29: =IF(G27="","",G28/G27) -> 0 | H29: =IF(H27="","",H28/H27) -> 0 | I29: =IF(I27="","",I28/I27) -> 0 | J29: =IF(J27="","",J28/J27) | ... N29: =IF(N27="","",N28/N27) | P29: نسبة غياب المستوى | S29: =S28/S27 -> 0
A30: الثانية متوسط | C30: =IF([1]بيانات_المؤسسة!$Q$2="","",[1]بيانات_المؤسسة!$Q$2) -> 2م1 | D30: =IF([1]بيانات_المؤسسة!$Q$3="","",[1]بيانات_المؤسسة!$Q$3) -> 2م2 | E30: =IF([1]بيانات_المؤسسة!$Q$4="","",[1]بيانات_المؤسسة!$Q$4) -> 2م3 | F30: =IF([1]بيانات_المؤسسة!$Q$5="","",[1]بيانات_المؤسسة!$Q$5) -> 2م4 | G30: =IF([1]بيانات_المؤسسة!$Q$6="","",[1]بيانات_المؤسسة!$Q$6) -> 2م5 | H30: =IF([1]بيانات_المؤسسة!$Q$7="","",[1]بيانات_المؤسسة!$Q$7) | I30: =IF([1]بيانات_المؤسسة!$Q$8="","",[1]بيانات_المؤسسة!$Q$8) | J30: =IF([1]بيانات_المؤسسة!$Q$9="","",[1]بيانات_المؤسسة!$Q$9) | K30: =IF([1]بيانات_المؤسسة!$Q$10="","",[1]بيانات_المؤسسة!$Q$10) | L30: =IF([1]بيانات_المؤسسة!$Q$11="","",[1]بيانات_المؤسسة!$Q$11) | M30: =IF([1]بيانات_المؤسسة!$Q$12="","",[1]بيانات_المؤسسة!$Q$12) | N30: =IF([1]بيانات_المؤسسة!$Q$13="","",[1]بيانات_المؤسسة!$Q$13) | P30: الحوصــــــــلــــــــــة
A31: تعداد الفوج | C31: 51 | D31: 51 | E31: 51 | F31: 51 | G31: 51 | J31: =IF(J30<>"",COUNTIFS([1]Data!$F:$F,[1]بيانات_المؤسسة!$P$1,[1]Data!$G:$G,MID(J30,3,2),[1]Data!$A:$A,"<="&$S$7)-COUNTIFS([1]Data!$F:$F,[1]بيانات_المؤسسة!$P$1,[1]Data!$G:$G,MID(J30,3,2),[1]Data!$AA:$AA,"<="&$S$7),"") | K31: =IF(K30<>"",COUNTIFS([1]Data!$F:$F,[1]بيانات_المؤسسة!$P$1,[1]Data!$G:$G,MID(K30,3,2),[1]Data!$A:$A,"<="&$S$7)-COUNTIFS([1]Data!$F:$F,[1]بيانات_المؤسسة!$P$1,[1]Data!$G:$G,MID(K30,3,2),[1]Data!$AA:$AA,"<="&$S$7),"") | L31: =IF(L30<>"",COUNTIFS([1]Data!$F:$F,[1]بيانات_المؤسسة!$P$1,[1]Data!$G:$G,MID(L30,3,2),[1]Data!$A:$A,"<="&$S$7)-COUNTIFS([1]Data!$F:$F,[1]بيانات_المؤسسة!$P$1,[1]Data!$G:$G,MID(L30,3,2),[1]Data!$AA:$AA,"<="&$S$7),"") | M31: =IF(M30<>"",COUNTIFS([1]Data!$F:$F,[1]بيانات_المؤسسة!$P$1,[1]Data!$G:$G,MID(M30,3,2),[1]Data!$A:$A,"<="&$S$7)-COUNTIFS([1]Data!$F:$F,[1]بيانات_المؤسسة!$P$1,[1]Data!$G:$G,MID(M30,3,2),[1]Data!$AA:$AA,"<="&$S$7),"") | N31: =IF(N30<>"",COUNTIFS([1]Data!$F:$F,[1]بيانات_المؤسسة!$P$1,[1]Data!$G:$G,MID(N30,3,2),[1]Data!$A:$A,"<="&$S$7)-COUNTIFS([1]Data!$F:$F,[1]بيانات_المؤسسة!$P$1,[1]Data!$G:$G,MID(N30,3,2),[1]Data!$AA:$AA,"<="&$S$7),"") | P31: تعداد المستوى | S31: =SUM(C31:N31) -> 255
A32: عدد غياب الفوج | C32: =IF(C31="","",COUNTIF($F$74:$G$113,"="&C30)) -> 0 | D32: =IF(D31="","",COUNTIF($F$74:$G$113,"="&D30)) -> 0 | E32: =IF(E31="","",COUNTIF($F$74:$G$113,"="&E30)) -> 0 | F32: =IF(F31="","",COUNTIF($F$74:$G$113,"="&F30)) -> 0 | G32: =IF(G31="","",COUNTIF($F$74:$G$113,"="&G30)) -> 0 | J32: =IF(J31="","",COUNTIF($F$74:$G$113,"="&J30)) | K32: =IF(K31="","",COUNTIF($F$74:$G$113,"="&K30)) | L32: =IF(L31="","",COUNTIF($F$74:$G$113,"="&L30)) | M32: =IF(M31="","",COUNTIF($F$74:$G$113,"="&M30)) | N32: =IF(N31="","",COUNTIF($F$74:$G$113,"="&N30)) | P32: عدد غياب المستوى | S32: =SUM(C32:N32) -> 0
A33: نسبة الغياب | C33: =IF(C31="","",C32/C31) -> 0 | D33: =IF(D31="","",D32/D31) -> 0 | E33: =IF(E31="","",E32/E31) -> 0 | F33: =IF(F31="","",F32/F31) -> 0 | G33: =IF(G31="","",G32/G31) -> 0 | J33: =IF(J31="","",J32/J31) | K33: =IF(K31="","",K32/K31) | L33: =IF(L31="","",L32/L31) | M33: =IF(M31="","",M32/M31) | N33: =IF(N31="","",N32/N31) | P33: نسبة غياب المستوى | S33: =S32/S31 -> 0
A34: الثالثة متوسط | C34: =IF([1]بيانات_المؤسسة!$R$2="","",[1]بيانات_المؤسسة!$R$2) -> 3م1 | D34: =IF([1]بيانات_المؤسسة!$R$3="","",[1]بيانات_المؤسسة!$R$3) -> 3م2 | E34: =IF([1]بيانات_المؤسسة!$R$4="","",[1]بيانات_المؤسسة!$R$4) -> 3م3 | F34: =IF([1]بيانات_المؤسسة!$R$5="","",[1]بيانات_المؤسسة!$R$5) -> 3م4 | G34: =IF([1]بيانات_المؤسسة!$R$6="","",[1]بيانات_المؤسسة!$R$6) | H34: =IF([1]بيانات_المؤسسة!$R$7="","",[1]بيانات_المؤسسة!$R$7) | I34: =IF([1]بيانات_المؤسسة!$R$8="","",[1]بيانات_المؤسسة!$R$8) | J34: =IF([1]بيانات_المؤسسة!$R$9="","",[1]بيانات_المؤسسة!$R$9) | K34: =IF([1]بيانات_المؤسسة!$R$10="","",[1]بيانات_المؤسسة!$R$10) | L34: =IF([1]بيانات_المؤسسة!$R$11="","",[1]بيانات_المؤسسة!$R$11) | M34: =IF([1]بيانات_المؤسسة!$R$12="","",[1]بيانات_المؤسسة!$R$12) | N34: =IF([1]بيانات_المؤسسة!$R$13="","",[1]بيانات_المؤسسة!$R$13) | P34: الحوصــــــــلــــــــــة
A35: تعداد الفوج | C35: 46 | D35: 46 | E35: 46 | F35: 46 | P35: تعداد المستوى | S35: =SUM(C35:N35) -> 184
A36: عدد غياب الفوج | C36: =IF(C35="","",COUNTIF($F$74:$G$113,"="&C34)) -> 0 | D36: =IF(D35="","",COUNTIF($F$74:$G$113,"="&D34)) -> 0 | E36: =IF(E35="","",COUNTIF($F$74:$G$113,"="&E34)) -> 0 | F36: =IF(F35="","",COUNTIF($F$74:$G$113,"="&F34)) -> 0 | P36: عدد غياب المستوى | S36: =SUM(C36:N36) -> 0
A37: نسبة الغياب | C37: =IF(C35="","",C36/C35) -> 0 | D37: =IF(D35="","",D36/D35) -> 0 | E37: =IF(E35="","",E36/E35) -> 0 | F37: =IF(F35="","",F36/F35) -> 0 | P37: نسبة غياب المستوى | S37: =S36/S35 -> 0
A38: الرابعة متوسط | C38: =IF([1]بيانات_المؤسسة!$S$2="","",[1]بيانات_المؤسسة!$S$2) -> 4م1 | D38: =IF([1]بيانات_المؤسسة!$S$3="","",[1]بيانات_المؤسسة!$S$3) -> 4م2 | E38: =IF([1]بيانات_المؤسسة!$S$4="","",[1]بيانات_المؤسسة!$S$4) -> 4م3 | F38: =IF([1]بيانات_المؤسسة!$S$5="","",[1]بيانات_المؤسسة!$S$5) -> 4م4 | G38: =IF([1]بيانات_المؤسسة!$S$6="","",[1]بيانات_المؤسسة!$S$6) -> 4م5 | H38: =IF([1]بيانات_المؤسسة!$S$7="","",[1]بيانات_المؤسسة!$S$7) | I38: =IF([1]بيانات_المؤسسة!$S$8="","",[1]بيانات_المؤسسة!$S$8) | J38: =IF([1]بيانات_المؤسسة!$S$9="","",[1]بيانات_المؤسسة!$S$9) | K38: =IF([1]بيانات_المؤسسة!$S$10="","",[1]بيانات_المؤسسة!$S$10) | L38: =IF([1]بيانات_المؤسسة!$S$11="","",[1]بيانات_المؤسسة!$S$11) | M38: =IF([1]بيانات_المؤسسة!$S$12="","",[1]بيانات_المؤسسة!$S$12) | N38: =IF([1]بيانات_المؤسسة!$S$13="","",[1]بيانات_المؤسسة!$S$13) | P38: الحوصــــــــلــــــــــة
A39: تعداد الفوج | C39: 51 | D39: 51 | E39: 51 | F39: 51 | G39: 51 | H39: =IF(H38<>"",COUNTIFS([1]Data!$F:$F,[1]بيانات_المؤسسة!$S$1,[1]Data!$G:$G,MID(H38,3,2),[1]Data!$A:$A,"<="&$S$7)-COUNTIFS([1]Data!$F:$F,[1]بيانات_المؤسسة!$S$1,[1]Data!$G:$G,MID(H38,3,2),[1]Data!$AA:$AA,"<="&$S$7),"") | I39: =IF(I38<>"",COUNTIFS([1]Data!$F:$F,[1]بيانات_المؤسسة!$S$1,[1]Data!$G:$G,MID(I38,3,2),[1]Data!$A:$A,"<="&$S$7)-COUNTIFS([1]Data!$F:$F,[1]بيانات_المؤسسة!$S$1,[1]Data!$G:$G,MID(I38,3,2),[1]Data!$AA:$AA,"<="&$S$7),"") | J39: =IF(J38<>"",COUNTIFS([1]Data!$F:$F,[1]بيانات_المؤسسة!$S$1,[1]Data!$G:$G,MID(J38,3,2),[1]Data!$A:$A,"<="&$S$7)-COUNTIFS([1]Data!$F:$F,[1]بيانات_المؤسسة!$S$1,[1]Data!$G:$G,MID(J38,3,2),[1]Data!$AA:$AA,"<="&$S$7),"") | K39: =IF(K38<>"",COUNTIFS([1]Data!$F:$F,[1]بيانات_المؤسسة!$S$1,[1]Data!$G:$G,MID(K38,3,2),[1]Data!$A:$A,"<="&$S$7)-COUNTIFS([1]Data!$F:$F,[1]بيانات_المؤسسة!$S$1,[1]Data!$G:$G,MID(K38,3,2),[1]Data!$AA:$AA,"<="&$S$7),"") | L39: =IF(L38<>"",COUNTIFS([1]Data!$F:$F,[1]بيانات_المؤسسة!$S$1,[1]Data!$G:$G,MID(L38,3,2),[1]Data!$A:$A,"<="&$S$7)-COUNTIFS([1]Data!$F:$F,[1]بيانات_المؤسسة!$S$1,[1]Data!$G:$G,MID(L38,3,2),[1]Data!$AA:$AA,"<="&$S$7),"") | M39: =IF(M38<>"",COUNTIFS([1]Data!$F:$F,[1]بيانات_المؤسسة!$S$1,[1]Data!$G:$G,MID(M38,3,2),[1]Data!$A:$A,"<="&$S$7)-COUNTIFS([1]Data!$F:$F,[1]بيانات_المؤسسة!$S$1,[1]Data!$G:$G,MID(M38,3,2),[1]Data!$AA:$AA,"<="&$S$7),"") | N39: =IF(N38<>"",COUNTIFS([1]Data!$F:$F,[1]بيانات_المؤسسة!$S$1,[1]Data!$G:$G,MID(N38,3,2),[1]Data!$A:$A,"<="&$S$7)-COUNTIFS([1]Data!$F:$F,[1]بيانات_المؤسسة!$S$1,[1]Data!$G:$G,MID(N38,3,2),[1]Data!$AA:$AA,"<="&$S$7),"") | P39: تعداد المستوى | S39: =SUM(C39:N39) -> 255
A40: عدد غياب الفوج | C40: =IF(C39="","",COUNTIF($F$74:$G$113,"="&C38)) -> 1 | D40: =IF(D39="","",COUNTIF($F$74:$G$113,"="&D38)) -> 1 | E40: =IF(E39="","",COUNTIF($F$74:$G$113,"="&E38)) -> 0 | F40: =IF(F39="","",COUNTIF($F$74:$G$113,"="&F38)) -> 0 | G40: =IF(G39="","",COUNTIF($F$74:$G$113,"="&G38)) -> 0 | H40: =IF(H39="","",COUNTIF($F$74:$G$113,"="&H38)) | I40: =IF(I39="","",COUNTIF($F$74:$G$113,"="&I38)) | J40: =IF(J39="","",COUNTIF($F$74:$G$113,"="&J38)) | ... N40: =IF(N39="","",COUNTIF($F$74:$G$113,"="&N38)) | P40: عدد غياب المستوى | S40: =SUM(C40:N40) -> 2
A41: نسبة الغياب | C41: =IF(C39="","",C40/C39) -> 0.019607843 | D41: =IF(D39="","",D40/D39) -> 0.019607843 | E41: =IF(E39="","",E40/E39) -> 0 | F41: =IF(F39="","",F40/F39) -> 0 | G41: =IF(G39="","",G40/G39) -> 0 | H41: =IF(H39="","",H40/H39) | I41: =IF(I39="","",I40/I39) | J41: =IF(J39="","",J40/J39) | ... N41: =IF(N39="","",N40/N39) | P41: نسبة غياب المستوى | S41: =S40/S39 -> 0.0078431373
A42: عدد التلاميذ الحاضرين لنهاية اليوم | F42: =S27+S31+S35+S39 -> 1035 | H42: عدد التلاميذ الغائبين اليوم | L42: =S28+S32+S36+S40 -> 2 | N42: النسبة المئوية لغيابات اليوم | S42: =L42/F42 -> 0.0019323671
A43: 3- حركـــــــــة التلاميذ :
A44: 3. 1 - تغيرات التعداد :
A45: عدد التلاميذ | D45: داخلي | F45: نصف داخلي | H45: خارجي | J45: المجموع | L45: المجموع العام | O45: المطعم
D46: ذكور | E46: إناث | F46: ذكور | G46: إناث | H46: ذكور | I46: إناث | J46: ذكور | K46: إناث | O46: التلاميذ | S46: الوجبة المقدمة
A47: تعداد الأمس | D47: 0 | E47: 0 | F47: 0 | G47: 0 | Q47: ذكور | R47: إناث
A48: حركة التلاميذ | C48: دخول | D48: 0 | E48: 0 | F48: 0 | G48: 0 | O48: الحاضرون
C49: خروج | D49: 0 | E49: 0 | F49: 0 | G49: 0 | O49: الغائبون
A50: تعداد اليوم الكلي | D50: 0 | E50: 0 | F50: 0 | G50: 0 | O50: المجموع
A51: 4. - غيابات المشرفين والاعوان :
A52: الرقم | B52: الاسم واللقب | D52: الرتبة | F52: الفترة الصباحية | H52: الفترة المسائية | J52: السبب | M52: الملاحظة
A53: 1
A54: 2
A55: 3
A56: 4
A57: 5
A58: 6
A59: 7
A60: 5- متابعة المرافق البيداغوجية:
A61: الرقم | B61: المرفق البيداغوجي | E61: النقائص المسجلة | P61: الملاحظات والاقتراحات
A62: 1 | B62: المخابر والورشات
A63: 2 | B63: حجرات الدراسة
A64: 3 | B64: المكتبة
A65: 4 | B65: النشاطات المختلفة
A66: 6- الحوصلة :
D67: التلاميذ | G67: الأساتذة العاملون اليوم | K67: مشرفوا التربية العاملون اليوم | Q67: أعوان المصلحة
A68: المسجلون | D68: =F42 -> 1035 | G68: =INDEX([1]بيانات_المؤسسة!I2:J8,WEEKDAY(S7),2) -> 23 | K68: 10 | Q68: 0
A69: الغائبون | D69: =L42 -> 2 | G69: =COUNTA(B10:D19) -> 0 | K69: =COUNTIF(B53:B59,"*") -> 0 | Q69: 0
A70: الحاضرون | D70: =D68-D69 -> 1033 | G70: =G68-G69 -> 23 | K70: =K68-K69 -> 10 | Q70: 5
P71: =[1]بيانات_المؤسسة!$J$13&" "&"في :" -> تيارت في : | S71: =S7 -> 45924
A72: 7- التلاميذ الغائبون إلى نهاية اليوم :
A73: الرقم | B73: اللقب و الاسم | F73: القسم | H73: غائب منذ | K73: إشعار 1 | N73: إشعار 2 | Q73: إعذار | S73: ملاحظات
A74: 1 | F74: 4م1 | H74: =IFERROR(IF((VLOOKUP(V68,[1]Data!$B$4:$AH$1511,28,FALSE))>$S$7,"",IF((VLOOKUP(V68,[1]Data!$B$4:$AH$1511,28,FALSE))=0,"",VLOOKUP(V68,[1]Data!$B$4:$AH$1511,28,FALSE))),"") | K74: =IFERROR(IF(H74+3<=$S$7,H74+3,""),"") | N74: =IFERROR(IF(K74+7<=$S$7,K74+7,""),"") | Q74: =IFERROR(IF(N74+7<=$S$7,N74+7,""),"") | S74: =IFERROR(IF(COUNTIF(OFFSET([1]Archive!$C$1,MATCH($S$7-(IF(WEEKDAY($S$7)=1,3,1)),[1]Archive!$C:$C,0)-1,2,COUNTIF([1]Archive!$C:$C,$S$7-(IF(WEEKDAY($S$7)=1,3,1))),1),V68)=1,"تغيب بالأمس",""),"")
A75: 2 | F75: 4م2 | H75: =IFERROR(IF((VLOOKUP(V69,[1]Data!$B$4:$AH$1511,28,FALSE))>$S$7,"",IF((VLOOKUP(V69,[1]Data!$B$4:$AH$1511,28,FALSE))=0,"",VLOOKUP(V69,[1]Data!$B$4:$AH$1511,28,FALSE))),"") | K75: =IFERROR(IF(H75+3<=$S$7,H75+3,""),"") | N75: =IFERROR(IF(K75+7<=$S$7,K75+7,""),"") | Q75: =IFERROR(IF(N75+7<=$S$7,N75+7,""),"") | S75: =IFERROR(IF(COUNTIF(OFFSET([1]Archive!$C$1,MATCH($S$7-(IF(WEEKDAY($S$7)=1,3,1)),[1]Archive!$C:$C,0)-1,2,COUNTIF([1]Archive!$C:$C,$S$7-(IF(WEEKDAY($S$7)=1,3,1))),1),V69)=1,"تغيب بالأمس",""),"")
A76: 3 | H76: =IFERROR(IF((VLOOKUP(V70,[1]Data!$B$4:$AH$1511,28,FALSE))>$S$7,"",IF((VLOOKUP(V70,[1]Data!$B$4:$AH$1511,28,FALSE))=0,"",VLOOKUP(V70,[1]Data!$B$4:$AH$1511,28,FALSE))),"") | K76: =IFERROR(IF(H76+3<=$S$7,H76+3,""),"") | N76: =IFERROR(IF(K76+7<=$S$7,K76+7,""),"") | Q76: =IFERROR(IF(N76+7<=$S$7,N76+7,""),"") | S76: =IFERROR(IF(COUNTIF(OFFSET([1]Archive!$C$1,MATCH($S$7-(IF(WEEKDAY($S$7)=1,3,1)),[1]Archive!$C:$C,0)-1,2,COUNTIF([1]Archive!$C:$C,$S$7-(IF(WEEKDAY($S$7)=1,3,1))),1),V70)=1,"تغيب بالأمس",""),"")
A77: 4 | H77: =IFERROR(IF((VLOOKUP(V71,[1]Data!$B$4:$AH$1511,28,FALSE))>$S$7,"",IF((VLOOKUP(V71,[1]Data!$B$4:$AH$1511,28,FALSE))=0,"",VLOOKUP(V71,[1]Data!$B$4:$AH$1511,28,FALSE))),"") | K77: =IFERROR(IF(H77+3<=$S$7,H77+3,""),"") | N77: =IFERROR(IF(K77+7<=$S$7,K77+7,""),"") | Q77: =IFERROR(IF(N77+7<=$S$7,N77+7,""),"") | S77: =IFERROR(IF(COUNTIF(OFFSET([1]Archive!$C$1,MATCH($S$7-(IF(WEEKDAY($S$7)=1,3,1)),[1]Archive!$C:$C,0)-1,2,COUNTIF([1]Archive!$C:$C,$S$7-(IF(WEEKDAY($S$7)=1,3,1))),1),V71)=1,"تغيب بالأمس",""),"")
A78: 5 | H78: =IFERROR(IF((VLOOKUP(V72,[1]Data!$B$4:$AH$1511,28,FALSE))>$S$7,"",IF((VLOOKUP(V72,[1]Data!$B$4:$AH$1511,28,FALSE))=0,"",VLOOKUP(V72,[1]Data!$B$4:$AH$1511,28,FALSE))),"") | K78: =IFERROR(IF(H78+3<=$S$7,H78+3,""),"") | N78: =IFERROR(IF(K78+7<=$S$7,K78+7,""),"") | Q78: =IFERROR(IF(N78+7<=$S$7,N78+7,""),"") | S78: =IFERROR(IF(COUNTIF(OFFSET([1]Archive!$C$1,MATCH($S$7-(IF(WEEKDAY($S$7)=1,3,1)),[1]Archive!$C:$C,0)-1,2,COUNTIF([1]Archive!$C:$C,$S$7-(IF(WEEKDAY($S$7)=1,3,1))),1),V72)=1,"تغيب بالأمس",""),"")
A79: 6 | H79: =IFERROR(IF((VLOOKUP(V73,[1]Data!$B$4:$AH$1511,28,FALSE))>$S$7,"",IF((VLOOKUP(V73,[1]Data!$B$4:$AH$1511,28,FALSE))=0,"",VLOOKUP(V73,[1]Data!$B$4:$AH$1511,28,FALSE))),"") | K79: =IFERROR(IF(H79+3<=$S$7,H79+3,""),"") | N79: =IFERROR(IF(K79+7<=$S$7,K79+7,""),"") | Q79: =IFERROR(IF(N79+7<=$S$7,N79+7,""),"") | S79: =IFERROR(IF(COUNTIF(OFFSET([1]Archive!$C$1,MATCH($S$7-(IF(WEEKDAY($S$7)=1,3,1)),[1]Archive!$C:$C,0)-1,2,COUNTIF([1]Archive!$C:$C,$S$7-(IF(WEEKDAY($S$7)=1,3,1))),1),V73)=1,"تغيب بالأمس",""),"")
A80: 7 | H80: =IFERROR(IF((VLOOKUP(V74,[1]Data!$B$4:$AH$1511,28,FALSE))>$S$7,"",IF((VLOOKUP(V74,[1]Data!$B$4:$AH$1511,28,FALSE))=0,"",VLOOKUP(V74,[1]Data!$B$4:$AH$1511,28,FALSE))),"") | K80: =IFERROR(IF(H80+3<=$S$7,H80+3,""),"") | N80: =IFERROR(IF(K80+7<=$S$7,K80+7,""),"") | Q80: =IFERROR(IF(N80+7<=$S$7,N80+7,""),"") | S80: =IFERROR(IF(COUNTIF(OFFSET([1]Archive!$C$1,MATCH($S$7-(IF(WEEKDAY($S$7)=1,3,1)),[1]Archive!$C:$C,0)-1,2,COUNTIF([1]Archive!$C:$C,$S$7-(IF(WEEKDAY($S$7)=1,3,1))),1),V74)=1,"تغيب بالأمس",""),"")
A81: 8 | H81: =IFERROR(IF((VLOOKUP(V75,[1]Data!$B$4:$AH$1511,28,FALSE))>$S$7,"",IF((VLOOKUP(V75,[1]Data!$B$4:$AH$1511,28,FALSE))=0,"",VLOOKUP(V75,[1]Data!$B$4:$AH$1511,28,FALSE))),"") | K81: =IFERROR(IF(H81+3<=$S$7,H81+3,""),"") | N81: =IFERROR(IF(K81+7<=$S$7,K81+7,""),"") | Q81: =IFERROR(IF(N81+7<=$S$7,N81+7,""),"") | S81: =IFERROR(IF(COUNTIF(OFFSET([1]Archive!$C$1,MATCH($S$7-(IF(WEEKDAY($S$7)=1,3,1)),[1]Archive!$C:$C,0)-1,2,COUNTIF([1]Archive!$C:$C,$S$7-(IF(WEEKDAY($S$7)=1,3,1))),1),V75)=1,"تغيب بالأمس",""),"")
A82: 9 | H82: =IFERROR(IF((VLOOKUP(V76,[1]Data!$B$4:$AH$1511,28,FALSE))>$S$7,"",IF((VLOOKUP(V76,[1]Data!$B$4:$AH$1511,28,FALSE))=0,"",VLOOKUP(V76,[1]Data!$B$4:$AH$1511,28,FALSE))),"") | K82: =IFERROR(IF(H82+3<=$S$7,H82+3,""),"") | N82: =IFERROR(IF(K82+7<=$S$7,K82+7,""),"") | Q82: =IFERROR(IF(N82+7<=$S$7,N82+7,""),"") | S82: =IFERROR(IF(COUNTIF(OFFSET([1]Archive!$C$1,MATCH($S$7-(IF(WEEKDAY($S$7)=1,3,1)),[1]Archive!$C:$C,0)-1,2,COUNTIF([1]Archive!$C:$C,$S$7-(IF(WEEKDAY($S$7)=1,3,1))),1),V76)=1,"تغيب بالأمس",""),"")
A83: 10 | H83: =IFERROR(IF((VLOOKUP(V77,[1]Data!$B$4:$AH$1511,28,FALSE))>$S$7,"",IF((VLOOKUP(V77,[1]Data!$B$4:$AH$1511,28,FALSE))=0,"",VLOOKUP(V77,[1]Data!$B$4:$AH$1511,28,FALSE))),"") | K83: =IFERROR(IF(H83+3<=$S$7,H83+3,""),"") | N83: =IFERROR(IF(K83+7<=$S$7,K83+7,""),"") | Q83: =IFERROR(IF(N83+7<=$S$7,N83+7,""),"") | S83: =IFERROR(IF(COUNTIF(OFFSET([1]Archive!$C$1,MATCH($S$7-(IF(WEEKDAY($S$7)=1,3,1)),[1]Archive!$C:$C,0)-1,2,COUNTIF([1]Archive!$C:$C,$S$7-(IF(WEEKDAY($S$7)=1,3,1))),1),V77)=1,"تغيب بالأمس",""),"")
A84: 11 | H84: =IFERROR(IF((VLOOKUP(V78,[1]Data!$B$4:$AH$1511,28,FALSE))>$S$7,"",IF((VLOOKUP(V78,[1]Data!$B$4:$AH$1511,28,FALSE))=0,"",VLOOKUP(V78,[1]Data!$B$4:$AH$1511,28,FALSE))),"") | K84: =IFERROR(IF(H84+3<=$S$7,H84+3,""),"") | N84: =IFERROR(IF(K84+7<=$S$7,K84+7,""),"") | Q84: =IFERROR(IF(N84+7<=$S$7,N84+7,""),"") | S84: =IFERROR(IF(COUNTIF(OFFSET([1]Archive!$C$1,MATCH($S$7-(IF(WEEKDAY($S$7)=1,3,1)),[1]Archive!$C:$C,0)-1,2,COUNTIF([1]Archive!$C:$C,$S$7-(IF(WEEKDAY($S$7)=1,3,1))),1),V78)=1,"تغيب بالأمس",""),"")
A85: 12 | H85: =IFERROR(IF((VLOOKUP(V79,[1]Data!$B$4:$AH$1511,28,FALSE))>$S$7,"",IF((VLOOKUP(V79,[1]Data!$B$4:$AH$1511,28,FALSE))=0,"",VLOOKUP(V79,[1]Data!$B$4:$AH$1511,28,FALSE))),"") | K85: =IFERROR(IF(H85+3<=$S$7,H85+3,""),"") | N85: =IFERROR(IF(K85+7<=$S$7,K85+7,""),"") | Q85: =IFERROR(IF(N85+7<=$S$7,N85+7,""),"") | S85: =IFERROR(IF(COUNTIF(OFFSET([1]Archive!$C$1,MATCH($S$7-(IF(WEEKDAY($S$7)=1,3,1)),[1]Archive!$C:$C,0)-1,2,COUNTIF([1]Archive!$C:$C,$S$7-(IF(WEEKDAY($S$7)=1,3,1))),1),V79)=1,"تغيب بالأمس",""),"")
A86: 13 | H86: =IFERROR(IF((VLOOKUP(V80,[1]Data!$B$4:$AH$1511,28,FALSE))>$S$7,"",IF((VLOOKUP(V80,[1]Data!$B$4:$AH$1511,28,FALSE))=0,"",VLOOKUP(V80,[1]Data!$B$4:$AH$1511,28,FALSE))),"") | K86: =IFERROR(IF(H86+3<=$S$7,H86+3,""),"") | N86: =IFERROR(IF(K86+7<=$S$7,K86+7,""),"") | Q86: =IFERROR(IF(N86+7<=$S$7,N86+7,""),"") | S86: =IFERROR(IF(COUNTIF(OFFSET([1]Archive!$C$1,MATCH($S$7-(IF(WEEKDAY($S$7)=1,3,1)),[1]Archive!$C:$C,0)-1,2,COUNTIF([1]Archive!$C:$C,$S$7-(IF(WEEKDAY($S$7)=1,3,1))),1),V80)=1,"تغيب بالأمس",""),"")
A87: 14 | H87: =IFERROR(IF((VLOOKUP(V81,[1]Data!$B$4:$AH$1511,28,FALSE))>$S$7,"",IF((VLOOKUP(V81,[1]Data!$B$4:$AH$1511,28,FALSE))=0,"",VLOOKUP(V81,[1]Data!$B$4:$AH$1511,28,FALSE))),"") | K87: =IFERROR(IF(H87+3<=$S$7,H87+3,""),"") | N87: =IFERROR(IF(K87+7<=$S$7,K87+7,""),"") | Q87: =IFERROR(IF(N87+7<=$S$7,N87+7,""),"") | S87: =IFERROR(IF(COUNTIF(OFFSET([1]Archive!$C$1,MATCH($S$7-(IF(WEEKDAY($S$7)=1,3,1)),[1]Archive!$C:$C,0)-1,2,COUNTIF([1]Archive!$C:$C,$S$7-(IF(WEEKDAY($S$7)=1,3,1))),1),V81)=1,"تغيب بالأمس",""),"")
... A113: 40 | H113: =IFERROR(IF((VLOOKUP(V107,[1]Data!$B$4:$AH$1511,28,FALSE))>$S$7,"",IF((VLOOKUP(V107,[1]Data!$B$4:$AH$1511,28,FALSE))=0,"",VLOOKUP(V107,[1]Data!$B$4:$AH$1511,28,FALSE))),"") | K113: =IFERROR(IF(H113+3<=$S$7,H113+3,""),"") | N113: =IFERROR(IF(K113+7<=$S$7,K113+7,""),"") | Q113: =IFERROR(IF(N113+7<=$S$7,N113+7,""),"") | S113: =IFERROR(IF(COUNTIF(OFFSET([1]Archive!$C$1,MATCH($S$7-(IF(WEEKDAY($S$7)=1,3,1)),[1]Archive!$C:$C,0)-1,2,COUNTIF([1]Archive!$C:$C,$S$7-(IF(WEEKDAY($S$7)=1,3,1))),1),V107)=1,"تغيب بالأمس",""),"")
A114: المجموع | S114: =IFERROR(IF(COUNTIF(OFFSET([1]Archive!$C$1,MATCH($S$7-(IF(WEEKDAY($S$7)=1,3,1)),[1]Archive!$C:$C,0)-1,2,COUNTIF([1]Archive!$C:$C,$S$7-(IF(WEEKDAY($S$7)=1,3,1))),1),V110)=1,"تغيب بالأمس",""),"")
A116: ملاحظات واقتراحات المشرف العام | E116: ..........................................................................................................................................................................................................................................................................................
A117: ملاحظات واقتراحات الناظر | E117: .........................................................................................................................................................................................................................................................................................
A118: ملاحظات وتوجيهات مدير المؤسسة | E118: ........................................................................................................................................................................................................................................................................................
P119: تيارت في : | S119: =S7 -> 45924
B120: امضاء المشرف المشرف العام امضاء الناظر | Q120: إطلع عليه المدير
K126: ح
